BEGIN:VCALENDAR
VERSION:2.0
PRODID:-//https://www.garten.kgafreiesland.de///NONSGML kigkonsult.se iCalcreator 2.10.15//
METHOD:PUBLISH
BEGIN:VEVENT
UID:20260421T144352CEST-4299R5PN97@https://www.garten.kgafreiesland.de/
DTSTAMP:20260421T124352Z
DESCRIPTION:Delegierte der KGA https://www.garten.kgafreiesland.de/de/news-
 termine/kalenderansicht-monat/ereignis/27-delegiertenversammlung-bezirksve
 rband
DTSTART:20260926T000000Z
DTEND:20260926T020000Z
LOCATION:Bezirksverband ()
SUMMARY:Delegiertenversammlung Bezirksverband
URL:https://www.garten.kgafreiesland.de/de/news-termine/kalenderansicht-mon
 at/ereignis/27-delegiertenversammlung-bezirksverband
END:VEVENT
END:VCALENDAR
