BEGIN:VCALENDAR
VERSION:2.0
PRODID:-//https://www.garten.kgafreiesland.de///NONSGML kigkonsult.se iCalcreator 2.10.15//
METHOD:PUBLISH
BEGIN:VEVENT
UID:20260421T161755CEST-7691EbXwVv@https://www.garten.kgafreiesland.de/
DTSTAMP:20260421T141755Z
DESCRIPTION:Gartenfachberatung https://www.garten.kgafreiesland.de/de/news-
 termine/kalenderansicht-monat/ereignis/72-sitzung-kommission-gartenfachber
 atung
DTSTART:20260504T183000Z
DTEND:20260504T203000Z
LOCATION:Vereinsgaststätte ()
SUMMARY:Sitzung Kommission Gartenfachberatung
URL:https://www.garten.kgafreiesland.de/de/news-termine/kalenderansicht-mon
 at/ereignis/72-sitzung-kommission-gartenfachberatung
END:VEVENT
END:VCALENDAR
